BEGIN:VCALENDAR
VERSION:2.0
BEGIN:VEVENT
UID:6faadbc2-d58d-4fb2-94de-4d7f0f8e1183
DTSTAMP:20260419T172726Z
DTSTART:20260506T093000Z
DTEND:20260506T173000Z
SUMMARY:Bickington community drop-in event - Wales & West Utilities 
LOCATION:Cedars Inn, Bickington Road, Sticklepath, Barnstaple EX31 2HE
DESCRIPTION:Want to find out more about our gas pipe upgrade work in your area?
Come and meet the team!
END:VEVENT
END:VCALENDAR
