BEGIN:VCALENDAR
VERSION:2.0
BEGIN:VEVENT
UID:e1e5a272-a8f2-4d9b-922c-d5a6da6d4480
DTSTAMP:20260419T172508Z
DTSTART:20260518T093000Z
DTEND:20260518T170000Z
SUMMARY: Watchet and Williton community drop-in event
LOCATION:Watchet Visitor Centre, Harbour Road, Watchet, TA23 0AQ
DESCRIPTION:Want to find out more about our gas pipe upgrade work in your area? Come and meet the team!
END:VEVENT
END:VCALENDAR
